BEGIN:VCALENDAR
VERSION:2.0
PRODID:-//Shake It Up - ECPv6.15.16.1//NONSGML v1.0//EN
CALSCALE:GREGORIAN
METHOD:PUBLISH
X-WR-CALNAME:Shake It Up
X-ORIGINAL-URL:https://shakeitup.org.au
X-WR-CALDESC:Events for Shake It Up
REFRESH-INTERVAL;VALUE=DURATION:PT1H
X-Robots-Tag:noindex
X-PUBLISHED-TTL:PT1H
BEGIN:VTIMEZONE
TZID:Australia/Sydney
BEGIN:STANDARD
TZOFFSETFROM:+1100
TZOFFSETTO:+1000
TZNAME:AEST
DTSTART:20250405T160000
END:STANDARD
BEGIN:DAYLIGHT
TZOFFSETFROM:+1000
TZOFFSETTO:+1100
TZNAME:AEDT
DTSTART:20251004T160000
END:DAYLIGHT
BEGIN:STANDARD
TZOFFSETFROM:+1100
TZOFFSETTO:+1000
TZNAME:AEST
DTSTART:20260404T160000
END:STANDARD
BEGIN:DAYLIGHT
TZOFFSETFROM:+1000
TZOFFSETTO:+1100
TZNAME:AEDT
DTSTART:20261003T160000
END:DAYLIGHT
BEGIN:STANDARD
TZOFFSETFROM:+1100
TZOFFSETTO:+1000
TZNAME:AEST
DTSTART:20270403T160000
END:STANDARD
BEGIN:DAYLIGHT
TZOFFSETFROM:+1000
TZOFFSETTO:+1100
TZNAME:AEDT
DTSTART:20271002T160000
END:DAYLIGHT
END:VTIMEZONE
BEGIN:VEVENT
DTSTART;VALUE=DATE:20260425
DTEND;VALUE=DATE:20260426
DTSTAMP:20260421T165848
CREATED:20250306T024900Z
LAST-MODIFIED:20250429T062403Z
UID:10000023-1777075200-1777161599@shakeitup.org.au
SUMMARY:Ballarat Marathon
DESCRIPTION:
URL:https://shakeitup.org.au/event/ballarat-marathon/
CATEGORIES:VIC
ATTACH;FMTTYPE=image/jpeg:https://shakeitup.org.au/wp-content/uploads/2025/03/ballarat-marathon.jpg
END:VEVENT
BEGIN:VEVENT
DTSTART;VALUE=DATE:20260503
DTEND;VALUE=DATE:20260504
DTSTAMP:20260421T165848
CREATED:20250306T020017Z
LAST-MODIFIED:20250622T223313Z
UID:10000015-1777766400-1777852799@shakeitup.org.au
SUMMARY:Runaway Sydney Half Marathon
DESCRIPTION:
URL:https://shakeitup.org.au/event/runaway-sydney-half-marathon/
CATEGORIES:NSW
ATTACH;FMTTYPE=image/jpeg:https://shakeitup.org.au/wp-content/uploads/2025/03/hoka-runaway-sydney-half-marathon.jpg
END:VEVENT
BEGIN:VEVENT
DTSTART;VALUE=DATE:20260503
DTEND;VALUE=DATE:20260504
DTSTAMP:20260421T165848
CREATED:20250708T231407Z
LAST-MODIFIED:20250708T231407Z
UID:10000030-1777766400-1777852799@shakeitup.org.au
SUMMARY:Mornington Running Festival
DESCRIPTION:
URL:https://shakeitup.org.au/event/mornington-running-festival/
CATEGORIES:VIC
ATTACH;FMTTYPE=image/jpeg:https://shakeitup.org.au/wp-content/uploads/2025/07/mornington.jpg
END:VEVENT
BEGIN:VEVENT
DTSTART;VALUE=DATE:20260516
DTEND;VALUE=DATE:20260517
DTSTAMP:20260421T165848
CREATED:20250818T231322Z
LAST-MODIFIED:20250818T231704Z
UID:10000032-1778889600-1778975999@shakeitup.org.au
SUMMARY:Cooly Classic Ocean Swim
DESCRIPTION:
URL:https://shakeitup.org.au/event/cooly-classic-ocean-swim/
CATEGORIES:QLD
ATTACH;FMTTYPE=image/png:https://shakeitup.org.au/wp-content/uploads/2025/08/Cooly-Classic-Logo.png
END:VEVENT
BEGIN:VEVENT
DTSTART;VALUE=DATE:20260516
DTEND;VALUE=DATE:20260518
DTSTAMP:20260421T165848
CREATED:20250306T025040Z
LAST-MODIFIED:20250727T051030Z
UID:10000024-1778889600-1779062399@shakeitup.org.au
SUMMARY:Great Ocean Road Running Festival
DESCRIPTION:
URL:https://shakeitup.org.au/event/great-ocean-road-running-festival/
CATEGORIES:VIC
ATTACH;FMTTYPE=image/png:https://shakeitup.org.au/wp-content/uploads/2025/03/great-ocean-road.png
END:VEVENT
BEGIN:VEVENT
DTSTART;VALUE=DATE:20260517
DTEND;VALUE=DATE:20260518
DTSTAMP:20260421T165848
CREATED:20250306T023059Z
LAST-MODIFIED:20251111T214124Z
UID:10000018-1778976000-1779062399@shakeitup.org.au
SUMMARY:GC30 Main Beach
DESCRIPTION:
URL:https://shakeitup.org.au/event/gc30-main-beach/
CATEGORIES:QLD
ATTACH;FMTTYPE=image/webp:https://shakeitup.org.au/wp-content/uploads/2025/03/gc30.webp
END:VEVENT
BEGIN:VEVENT
DTSTART;VALUE=DATE:20260523
DTEND;VALUE=DATE:20260524
DTSTAMP:20260421T165848
CREATED:20250306T023419Z
LAST-MODIFIED:20250709T050240Z
UID:10000019-1779494400-1779580799@shakeitup.org.au
SUMMARY:Runaway Noosa Half Marathon
DESCRIPTION:
URL:https://shakeitup.org.au/event/runaway-noosa-half-marathon/
CATEGORIES:QLD
ATTACH;FMTTYPE=image/png:https://shakeitup.org.au/wp-content/uploads/2025/03/noosa.png
END:VEVENT
BEGIN:VEVENT
DTSTART;VALUE=DATE:20260524
DTEND;VALUE=DATE:20260525
DTSTAMP:20260421T165848
CREATED:20250306T030402Z
LAST-MODIFIED:20260126T212208Z
UID:10000028-1779580800-1779667199@shakeitup.org.au
SUMMARY:HBF Run for a Reason
DESCRIPTION:
URL:https://shakeitup.org.au/event/hbf-run-for-a-reason/
CATEGORIES:WA
ATTACH;FMTTYPE=image/jpeg:https://shakeitup.org.au/wp-content/uploads/2025/03/hbf.jpg
END:VEVENT
BEGIN:VEVENT
DTSTART;VALUE=DATE:20260607
DTEND;VALUE=DATE:20260608
DTSTAMP:20260421T165848
CREATED:20241011T024107Z
LAST-MODIFIED:20250904T012148Z
UID:10000004-1780790400-1780876799@shakeitup.org.au
SUMMARY:Brisbane Marathon Festival
DESCRIPTION:
URL:https://shakeitup.org.au/event/eva-air-brisbane-marathon-festival/
CATEGORIES:QLD
ATTACH;FMTTYPE=image/png:https://shakeitup.org.au/wp-content/uploads/2024/10/1-3.png
END:VEVENT
BEGIN:VEVENT
DTSTART;VALUE=DATE:20260607
DTEND;VALUE=DATE:20260608
DTSTAMP:20260421T165848
CREATED:20250706T223642Z
LAST-MODIFIED:20250710T223024Z
UID:10000029-1780790400-1780876799@shakeitup.org.au
SUMMARY:Rosebud Running Festival
DESCRIPTION:
URL:https://shakeitup.org.au/event/rosebud-running-festival/
CATEGORIES:VIC
ATTACH;FMTTYPE=image/jpeg:https://shakeitup.org.au/wp-content/uploads/2025/07/rosebud-running-festival.jpg
END:VEVENT
BEGIN:VEVENT
DTSTART;VALUE=DATE:20260621
DTEND;VALUE=DATE:20260622
DTSTAMP:20260421T165848
CREATED:20250909T222357Z
LAST-MODIFIED:20250909T222357Z
UID:10000035-1782000000-1782086399@shakeitup.org.au
SUMMARY:Hervey Bay Half Marathon Festival
DESCRIPTION:
URL:https://shakeitup.org.au/event/hervey-bay-half-marathon-festival/
CATEGORIES:QLD
ATTACH;FMTTYPE=image/png:https://shakeitup.org.au/wp-content/uploads/2025/09/herveybay.png
END:VEVENT
BEGIN:VEVENT
DTSTART;VALUE=DATE:20260704
DTEND;VALUE=DATE:20260706
DTSTAMP:20260421T165848
CREATED:20250306T023915Z
LAST-MODIFIED:20251008T041325Z
UID:10000020-1783123200-1783295999@shakeitup.org.au
SUMMARY:Gold Coast Marathon
DESCRIPTION:
URL:https://shakeitup.org.au/event/gold-coast-marathon/
CATEGORIES:QLD
ATTACH;FMTTYPE=image/png:https://shakeitup.org.au/wp-content/uploads/2025/03/Gold-Coast-Marathon-2022.png
END:VEVENT
BEGIN:VEVENT
DTSTART;VALUE=DATE:20260712
DTEND;VALUE=DATE:20260713
DTSTAMP:20260421T165848
CREATED:20241011T032058Z
LAST-MODIFIED:20250918T024732Z
UID:10000007-1783814400-1783900799@shakeitup.org.au
SUMMARY:Cairns Marathon Festival
DESCRIPTION:
URL:https://shakeitup.org.au/event/7cairns-marathon-festival/
CATEGORIES:QLD
ATTACH;FMTTYPE=image/png:https://shakeitup.org.au/wp-content/uploads/2024/10/2-2.png
END:VEVENT
BEGIN:VEVENT
DTSTART;VALUE=DATE:20260712
DTEND;VALUE=DATE:20260713
DTSTAMP:20260421T165848
CREATED:20250306T025255Z
LAST-MODIFIED:20250929T035005Z
UID:10000025-1783814400-1783900799@shakeitup.org.au
SUMMARY:Run Melbourne
DESCRIPTION:
URL:https://shakeitup.org.au/event/run-melbourne/
CATEGORIES:VIC
ATTACH;FMTTYPE=image/png:https://shakeitup.org.au/wp-content/uploads/2025/03/run-melbourne-1.png
END:VEVENT
BEGIN:VEVENT
DTSTART;VALUE=DATE:20260802
DTEND;VALUE=DATE:20260803
DTSTAMP:20260421T165848
CREATED:20241011T024225Z
LAST-MODIFIED:20251002T230233Z
UID:10000006-1785628800-1785715199@shakeitup.org.au
SUMMARY:Sunshine Coast Marathon
DESCRIPTION:
URL:https://shakeitup.org.au/event/sunshine-coast-marathon/
CATEGORIES:QLD
ATTACH;FMTTYPE=image/png:https://shakeitup.org.au/wp-content/uploads/2024/10/3-2.png
END:VEVENT
BEGIN:VEVENT
DTSTART;VALUE=DATE:20260830
DTEND;VALUE=DATE:20260831
DTSTAMP:20260421T165848
CREATED:20250306T021724Z
LAST-MODIFIED:20250915T033304Z
UID:10000017-1788048000-1788134399@shakeitup.org.au
SUMMARY:Sydney Marathon
DESCRIPTION:
URL:https://shakeitup.org.au/event/sydney-running-festival/
CATEGORIES:NSW
ATTACH;FMTTYPE=image/jpeg:https://shakeitup.org.au/wp-content/uploads/2025/03/Blackmores-Sydney-Running-Festival-1.jpg
END:VEVENT
BEGIN:VEVENT
DTSTART;VALUE=DATE:20260920
DTEND;VALUE=DATE:20260921
DTSTAMP:20260421T165848
CREATED:20250306T025718Z
LAST-MODIFIED:20251211T011704Z
UID:10000027-1789862400-1789948799@shakeitup.org.au
SUMMARY:City-Bay Fun Run
DESCRIPTION:
URL:https://shakeitup.org.au/event/city-bay-fun-run/
CATEGORIES:SA
ATTACH;FMTTYPE=image/png:https://shakeitup.org.au/wp-content/uploads/2025/03/city-bay-logo-main2.png
END:VEVENT
BEGIN:VEVENT
DTSTART;VALUE=DATE:20260920
DTEND;VALUE=DATE:20260921
DTSTAMP:20260421T165848
CREATED:20250911T052713Z
LAST-MODIFIED:20250911T052713Z
UID:10000036-1789862400-1789948799@shakeitup.org.au
SUMMARY:Geelong Running Festival
DESCRIPTION:
URL:https://shakeitup.org.au/event/geelong-running-festival/
CATEGORIES:VIC
ATTACH;FMTTYPE=image/jpeg:https://shakeitup.org.au/wp-content/uploads/2025/09/geelong.jpg
END:VEVENT
BEGIN:VEVENT
DTSTART;VALUE=DATE:20261011
DTEND;VALUE=DATE:20261012
DTSTAMP:20260421T165848
CREATED:20250306T025443Z
LAST-MODIFIED:20251103T014629Z
UID:10000026-1791676800-1791763199@shakeitup.org.au
SUMMARY:Melbourne Marathon Festival
DESCRIPTION:
URL:https://shakeitup.org.au/event/melbourne-marathon-festival-2/
CATEGORIES:VIC
ATTACH;FMTTYPE=image/png:https://shakeitup.org.au/wp-content/uploads/2025/03/melb-marathon.png
END:VEVENT
END:VCALENDAR